BEGIN:VCALENDAR
VERSION:2.0
PRODID:-//Andrew &amp; Sarai - ECPv6.15.20//NONSGML v1.0//EN
CALSCALE:GREGORIAN
METHOD:PUBLISH
X-WR-CALNAME:Andrew &amp; Sarai
X-ORIGINAL-URL:https://www.andrewandsarai.com
X-WR-CALDESC:Events for Andrew &amp; Sarai
REFRESH-INTERVAL;VALUE=DURATION:PT1H
X-Robots-Tag:noindex
X-PUBLISHED-TTL:PT1H
BEGIN:VTIMEZONE
TZID:UTC
BEGIN:STANDARD
TZOFFSETFROM:+0000
TZOFFSETTO:+0000
TZNAME:UTC
DTSTART:20230101T000000
END:STANDARD
END:VTIMEZONE
BEGIN:VEVENT
DTSTART;TZID=UTC:20241029T170000
DTEND;TZID=UTC:20241029T183000
DTSTAMP:20260420T161231
CREATED:20241029T025026Z
LAST-MODIFIED:20241029T025026Z
UID:189-1730221200-1730226600@www.andrewandsarai.com
SUMMARY:Adventist Health Awards Ceremony (Visalia)
DESCRIPTION:
URL:https://www.andrewandsarai.com/event/adventist-health-awards-ceremony-visalia/
LOCATION:CA
END:VEVENT
BEGIN:VEVENT
DTSTART;TZID=UTC:20241020T140000
DTEND;TZID=UTC:20241020T163000
DTSTAMP:20260420T161231
CREATED:20240929T062516Z
LAST-MODIFIED:20240929T062516Z
UID:159-1729432800-1729441800@www.andrewandsarai.com
SUMMARY:Andrew & Sarai - Live! at Barrelhouse
DESCRIPTION:
URL:https://www.andrewandsarai.com/event/andrew-sarai-live-at-barrelhouse/
LOCATION:Barrelhouse\, 521 E Main Street\, Visalia\, CA\, 93291\, United States
END:VEVENT
BEGIN:VEVENT
DTSTART;TZID=UTC:20241012T130000
DTEND;TZID=UTC:20241012T150000
DTSTAMP:20260420T161231
CREATED:20240929T064049Z
LAST-MODIFIED:20240929T064129Z
UID:169-1728738000-1728745200@www.andrewandsarai.com
SUMMARY:Wedding (Private Event)
DESCRIPTION:
URL:https://www.andrewandsarai.com/event/wedding-private-event/
LOCATION:CA
END:VEVENT
BEGIN:VEVENT
DTSTART;TZID=UTC:20241010T173000
DTEND;TZID=UTC:20241010T200000
DTSTAMP:20260420T161231
CREATED:20240929T061956Z
LAST-MODIFIED:20240929T061956Z
UID:155-1728581400-1728590400@www.andrewandsarai.com
SUMMARY:Andrew & Sarai @ An Evening Under The Oaks
DESCRIPTION:Join us and the Sequoia Riverlands Trust for an evening of music and fundraising 🙂
URL:https://www.andrewandsarai.com/event/andrew-sarai-an-evening-under-the-oaks/
LOCATION:Kaweah Oaks Preserve\, Visalia\, 93291\, United States
END:VEVENT
END:VCALENDAR