BEGIN:VCALENDAR
VERSION:2.0
PRODID:-//Andrew &amp; Sarai - ECPv6.15.20//NONSGML v1.0//EN
CALSCALE:GREGORIAN
METHOD:PUBLISH
X-ORIGINAL-URL:https://www.andrewandsarai.com
X-WR-CALDESC:Events for Andrew &amp; Sarai
REFRESH-INTERVAL;VALUE=DURATION:PT1H
X-Robots-Tag:noindex
X-PUBLISHED-TTL:PT1H
BEGIN:VTIMEZONE
TZID:UTC
BEGIN:STANDARD
TZOFFSETFROM:+0000
TZOFFSETTO:+0000
TZNAME:UTC
DTSTART:20230101T000000
END:STANDARD
END:VTIMEZONE
BEGIN:VEVENT
DTSTART;TZID=UTC:20251214T140000
DTEND;TZID=UTC:20251214T163000
DTSTAMP:20260422T102248
CREATED:20241029T053819Z
LAST-MODIFIED:20241029T053819Z
UID:219-1765720800-1765729800@www.andrewandsarai.com
SUMMARY:Andrew & Sarai - Live! at Barrelhouse
DESCRIPTION:
URL:https://www.andrewandsarai.com/event/andrew-sarai-live-at-barrelhouse-15/
LOCATION:Barrelhouse\, 521 E Main Street\, Visalia\, CA\, 93291\, United States
END:VEVENT
BEGIN:VEVENT
DTSTART;TZID=UTC:20251109T140000
DTEND;TZID=UTC:20251109T163000
DTSTAMP:20260422T102248
CREATED:20241029T053744Z
LAST-MODIFIED:20241029T053744Z
UID:217-1762696800-1762705800@www.andrewandsarai.com
SUMMARY:Andrew & Sarai - Live! at Barrelhouse
DESCRIPTION:
URL:https://www.andrewandsarai.com/event/andrew-sarai-live-at-barrelhouse-14/
LOCATION:Barrelhouse\, 521 E Main Street\, Visalia\, CA\, 93291\, United States
END:VEVENT
BEGIN:VEVENT
DTSTART;TZID=UTC:20251012T140000
DTEND;TZID=UTC:20251012T163000
DTSTAMP:20260422T102248
CREATED:20241029T053706Z
LAST-MODIFIED:20241029T053706Z
UID:215-1760277600-1760286600@www.andrewandsarai.com
SUMMARY:Andrew & Sarai - Live! at Barrelhouse
DESCRIPTION:
URL:https://www.andrewandsarai.com/event/andrew-sarai-live-at-barrelhouse-13/
LOCATION:Barrelhouse\, 521 E Main Street\, Visalia\, CA\, 93291\, United States
END:VEVENT
BEGIN:VEVENT
DTSTART;TZID=UTC:20250914T140000
DTEND;TZID=UTC:20250914T163000
DTSTAMP:20260422T102249
CREATED:20241029T053626Z
LAST-MODIFIED:20241029T053626Z
UID:213-1757858400-1757867400@www.andrewandsarai.com
SUMMARY:Andrew & Sarai - Live! at Barrelhouse
DESCRIPTION:
URL:https://www.andrewandsarai.com/event/andrew-sarai-live-at-barrelhouse-12/
LOCATION:Barrelhouse\, 521 E Main Street\, Visalia\, CA\, 93291\, United States
END:VEVENT
BEGIN:VEVENT
DTSTART;TZID=UTC:20250830T080000
DTEND;TZID=UTC:20250830T170000
DTSTAMP:20260422T102249
CREATED:20241016T023943Z
LAST-MODIFIED:20241029T024652Z
UID:183-1756540800-1756573200@www.andrewandsarai.com
SUMMARY:Quinceañera (Thousand Oaks\, Ca)
DESCRIPTION:We hope you’re invited 🙂
URL:https://www.andrewandsarai.com/event/wedding-thousand-oaks-ca/
LOCATION:CA
END:VEVENT
BEGIN:VEVENT
DTSTART;TZID=UTC:20250810T140000
DTEND;TZID=UTC:20250810T163000
DTSTAMP:20260422T102249
CREATED:20241029T053548Z
LAST-MODIFIED:20241029T053548Z
UID:211-1754834400-1754843400@www.andrewandsarai.com
SUMMARY:Andrew & Sarai - Live! at Barrelhouse
DESCRIPTION:
URL:https://www.andrewandsarai.com/event/andrew-sarai-live-at-barrelhouse-11/
LOCATION:Barrelhouse\, 521 E Main Street\, Visalia\, CA\, 93291\, United States
END:VEVENT
BEGIN:VEVENT
DTSTART;TZID=UTC:20250720T140000
DTEND;TZID=UTC:20250720T163000
DTSTAMP:20260422T102249
CREATED:20241029T053338Z
LAST-MODIFIED:20241029T053338Z
UID:209-1753020000-1753029000@www.andrewandsarai.com
SUMMARY:Andrew & Sarai - Live! at Barrelhouse
DESCRIPTION:
URL:https://www.andrewandsarai.com/event/andrew-sarai-live-at-barrelhouse-10/
LOCATION:Barrelhouse\, 521 E Main Street\, Visalia\, CA\, 93291\, United States
END:VEVENT
BEGIN:VEVENT
DTSTART;TZID=UTC:20250608T140000
DTEND;TZID=UTC:20250608T163000
DTSTAMP:20260422T102249
CREATED:20241029T053256Z
LAST-MODIFIED:20241029T053256Z
UID:207-1749391200-1749400200@www.andrewandsarai.com
SUMMARY:Andrew & Sarai - Live! at Barrelhouse
DESCRIPTION:
URL:https://www.andrewandsarai.com/event/andrew-sarai-live-at-barrelhouse-9/
LOCATION:Barrelhouse\, 521 E Main Street\, Visalia\, CA\, 93291\, United States
END:VEVENT
BEGIN:VEVENT
DTSTART;TZID=UTC:20250517T140000
DTEND;TZID=UTC:20250517T170000
DTSTAMP:20260422T102249
CREATED:20241029T024802Z
LAST-MODIFIED:20241029T024802Z
UID:187-1747490400-1747501200@www.andrewandsarai.com
SUMMARY:Wedding (Martinez\, Ca)
DESCRIPTION:We hope you’re invited!
URL:https://www.andrewandsarai.com/event/wedding-martinez-ca/
LOCATION:CA
END:VEVENT
BEGIN:VEVENT
DTSTART;TZID=UTC:20250511T140000
DTEND;TZID=UTC:20250511T163000
DTSTAMP:20260422T102249
CREATED:20241029T030250Z
LAST-MODIFIED:20241029T030250Z
UID:202-1746972000-1746981000@www.andrewandsarai.com
SUMMARY:Andrew & Sarai - Live! at Barrelhouse
DESCRIPTION:
URL:https://www.andrewandsarai.com/event/andrew-sarai-live-at-barrelhouse-8/
LOCATION:Barrelhouse\, 521 E Main Street\, Visalia\, CA\, 93291\, United States
END:VEVENT
BEGIN:VEVENT
DTSTART;TZID=UTC:20250413T140000
DTEND;TZID=UTC:20250413T163000
DTSTAMP:20260422T102249
CREATED:20241029T030204Z
LAST-MODIFIED:20241029T030204Z
UID:200-1744552800-1744561800@www.andrewandsarai.com
SUMMARY:Andrew & Sarai - Live! at Barrelhouse
DESCRIPTION:
URL:https://www.andrewandsarai.com/event/andrew-sarai-live-at-barrelhouse-7/
LOCATION:Barrelhouse\, 521 E Main Street\, Visalia\, CA\, 93291\, United States
END:VEVENT
BEGIN:VEVENT
DTSTART;TZID=UTC:20250316T140000
DTEND;TZID=UTC:20250316T163000
DTSTAMP:20260422T102249
CREATED:20241029T030112Z
LAST-MODIFIED:20241029T030112Z
UID:198-1742133600-1742142600@www.andrewandsarai.com
SUMMARY:Andrew & Sarai - Live! at Barrelhouse
DESCRIPTION:
URL:https://www.andrewandsarai.com/event/andrew-sarai-live-at-barrelhouse-6/
LOCATION:Barrelhouse\, 521 E Main Street\, Visalia\, CA\, 93291\, United States
END:VEVENT
BEGIN:VEVENT
DTSTART;TZID=UTC:20250216T140000
DTEND;TZID=UTC:20250216T163000
DTSTAMP:20260422T102249
CREATED:20241029T030031Z
LAST-MODIFIED:20241029T030031Z
UID:196-1739714400-1739723400@www.andrewandsarai.com
SUMMARY:Andrew & Sarai - Live! at Barrelhouse
DESCRIPTION:
URL:https://www.andrewandsarai.com/event/andrew-sarai-live-at-barrelhouse-5/
LOCATION:Barrelhouse\, 521 E Main Street\, Visalia\, CA\, 93291\, United States
END:VEVENT
BEGIN:VEVENT
DTSTART;TZID=UTC:20250119T140000
DTEND;TZID=UTC:20250119T163000
DTSTAMP:20260422T102249
CREATED:20241029T025942Z
LAST-MODIFIED:20241029T025942Z
UID:194-1737295200-1737304200@www.andrewandsarai.com
SUMMARY:Andrew & Sarai - Live! at Barrelhouse
DESCRIPTION:
URL:https://www.andrewandsarai.com/event/andrew-sarai-live-at-barrelhouse-4/
LOCATION:Barrelhouse\, 521 E Main Street\, Visalia\, CA\, 93291\, United States
END:VEVENT
BEGIN:VEVENT
DTSTART;TZID=UTC:20241215T140000
DTEND;TZID=UTC:20241215T163000
DTSTAMP:20260422T102249
CREATED:20240929T065029Z
LAST-MODIFIED:20240929T065029Z
UID:177-1734271200-1734280200@www.andrewandsarai.com
SUMMARY:Andrew & Sarai - Live! at Barrelhouse
DESCRIPTION:
URL:https://www.andrewandsarai.com/event/andrew-sarai-live-at-barrelhouse-3/
LOCATION:Barrelhouse\, 521 E Main Street\, Visalia\, CA\, 93291\, United States
END:VEVENT
BEGIN:VEVENT
DTSTART;TZID=UTC:20241128T110000
DTEND;TZID=UTC:20241128T140000
DTSTAMP:20260422T102249
CREATED:20240929T064501Z
LAST-MODIFIED:20240929T064501Z
UID:171-1732791600-1732802400@www.andrewandsarai.com
SUMMARY:Thanksgiving Brunch @ The Hyde
DESCRIPTION:
URL:https://www.andrewandsarai.com/event/thanksgiving-brunch-the-hyde/
LOCATION:The Hyde\, 3200 West Mineral King Ave\, Visalia\, CA\, 93291\, United States
END:VEVENT
BEGIN:VEVENT
DTSTART;TZID=UTC:20241117T140000
DTEND;TZID=UTC:20241117T163000
DTSTAMP:20260422T102249
CREATED:20240929T064716Z
LAST-MODIFIED:20240929T064716Z
UID:175-1731852000-1731861000@www.andrewandsarai.com
SUMMARY:Andrew & Sarai - Live! at Barrelhouse
DESCRIPTION:
URL:https://www.andrewandsarai.com/event/andrew-sarai-live-at-barrelhouse-2/
LOCATION:Barrelhouse\, 521 E Main Street\, Visalia\, CA\, 93291\, United States
END:VEVENT
BEGIN:VEVENT
DTSTART;TZID=UTC:20241108T190000
DTEND;TZID=UTC:20241108T210000
DTSTAMP:20260422T102249
CREATED:20241029T025051Z
LAST-MODIFIED:20241029T025133Z
UID:191-1731092400-1731099600@www.andrewandsarai.com
SUMMARY:Birthday Party! (private event)
DESCRIPTION:We hope you’re invited!
URL:https://www.andrewandsarai.com/event/birthday-party-private-event/
LOCATION:CA
END:VEVENT
BEGIN:VEVENT
DTSTART;TZID=UTC:20241103T120000
DTEND;TZID=UTC:20241103T160000
DTSTAMP:20260422T102249
CREATED:20241029T050610Z
LAST-MODIFIED:20241029T050610Z
UID:204-1730635200-1730649600@www.andrewandsarai.com
SUMMARY:Central Coast Bridal Expo!
DESCRIPTION:
URL:https://www.andrewandsarai.com/event/central-coast-bridal-expo/
LOCATION:The Madonna Inn\, San Luis Obispo\, California\, United States
END:VEVENT
BEGIN:VEVENT
DTSTART;TZID=UTC:20241029T170000
DTEND;TZID=UTC:20241029T183000
DTSTAMP:20260422T102249
CREATED:20241029T025026Z
LAST-MODIFIED:20241029T025026Z
UID:189-1730221200-1730226600@www.andrewandsarai.com
SUMMARY:Adventist Health Awards Ceremony (Visalia)
DESCRIPTION:
URL:https://www.andrewandsarai.com/event/adventist-health-awards-ceremony-visalia/
LOCATION:CA
END:VEVENT
BEGIN:VEVENT
DTSTART;TZID=UTC:20241020T140000
DTEND;TZID=UTC:20241020T163000
DTSTAMP:20260422T102249
CREATED:20240929T062516Z
LAST-MODIFIED:20240929T062516Z
UID:159-1729432800-1729441800@www.andrewandsarai.com
SUMMARY:Andrew & Sarai - Live! at Barrelhouse
DESCRIPTION:
URL:https://www.andrewandsarai.com/event/andrew-sarai-live-at-barrelhouse/
LOCATION:Barrelhouse\, 521 E Main Street\, Visalia\, CA\, 93291\, United States
END:VEVENT
BEGIN:VEVENT
DTSTART;TZID=UTC:20241012T130000
DTEND;TZID=UTC:20241012T150000
DTSTAMP:20260422T102249
CREATED:20240929T064049Z
LAST-MODIFIED:20240929T064129Z
UID:169-1728738000-1728745200@www.andrewandsarai.com
SUMMARY:Wedding (Private Event)
DESCRIPTION:
URL:https://www.andrewandsarai.com/event/wedding-private-event/
LOCATION:CA
END:VEVENT
BEGIN:VEVENT
DTSTART;TZID=UTC:20241010T173000
DTEND;TZID=UTC:20241010T200000
DTSTAMP:20260422T102249
CREATED:20240929T061956Z
LAST-MODIFIED:20240929T061956Z
UID:155-1728581400-1728590400@www.andrewandsarai.com
SUMMARY:Andrew & Sarai @ An Evening Under The Oaks
DESCRIPTION:Join us and the Sequoia Riverlands Trust for an evening of music and fundraising 🙂
URL:https://www.andrewandsarai.com/event/andrew-sarai-an-evening-under-the-oaks/
LOCATION:Kaweah Oaks Preserve\, Visalia\, 93291\, United States
END:VEVENT
END:VCALENDAR